BEGIN:VCALENDAR
VERSION:2.0
PRODID:-//wp-events-plugin.com//7.1.7//EN
TZID:America/New_York
X-WR-TIMEZONE:America/New_York
BEGIN:VEVENT
UID:22@cornedabondance.com
DTSTART;TZID=America/Toronto;VALUE=DATE:20251222
DTEND;TZID=America/Toronto;VALUE=DATE:20260105
DTSTAMP:20251030T180941Z
URL:https://cornedabondance.com/calendrier/fermeture-des-fetes/
SUMMARY:Fermeture des fêtes
DESCRIPTION:La Corne d'abondance est fermée pour le temps des fêtes.\n\nN
 ous vous souhaitons de Joyeuses Fêtes!
CATEGORIES:Fermeture
LOCATION:La Corne d'abondance\, 727\, Avenue de Salaberry\, Suite 201\, Cha
 mbly\, J3L 1R2\, Canada
X-APPLE-STRUCTURED-LOCATION;VALUE=URI;X-ADDRESS=727\, Avenue de Salaberry\,
  Suite 201\, Chambly\, J3L 1R2\, Canada;X-APPLE-RADIUS=100;X-TITLE=La Corn
 e d'abondance:geo:0,0
END:VEVENT
BEGIN:VTIMEZONE
TZID:America/Toronto
X-LIC-LOCATION:America/Toronto
BEGIN:STANDARD
DTSTART:20251102T010000
TZOFFSETFROM:-0400
TZOFFSETTO:-0500
TZNAME:EST
END:STANDARD
END:VTIMEZONE
END:VCALENDAR